BEGIN:VCALENDAR
PRODID:-//ical.marudot.com//iCal Event Maker
VERSION:2.0
BEGIN:VEVENT
DTSTAMP:20260422T201634Z
UID:stostream-e5260
DTSTART:20260501T003000Z
DURATION:PT60M
SUMMARY:Proscenium Theater Dance Concert
LOCATION:Live Stream from Kelsey Theater
DESCRIPTION:https://www.stolaf.edu/multimedia/play/?e=5260\n\nA Proscenium Theater Dance Concert from Kelsey Theater.
URL:https://www.stolaf.edu/multimedia/play/?e=5260
END:VEVENT
END:VCALENDAR