BEGIN:VCALENDAR
PRODID:-//ical.marudot.com//iCal Event Maker
VERSION:2.0
BEGIN:VEVENT
DTSTAMP:20260420T165219Z
UID:stostream-e5360
DTSTART:20260501T151000Z
DURATION:PT60M
SUMMARY:Honors Day Convocation
LOCATION:Live Stream from Boe Memorial Chapel
DESCRIPTION:https://www.stolaf.edu/multimedia/play/?e=5360\n\nHonors Day celebrates the academic accomplishments of students, to express gratitude to faculty members, and to say "thank you" to donors and friends of the college.
URL:https://www.stolaf.edu/multimedia/play/?e=5360
END:VEVENT
END:VCALENDAR