BEGIN:VCALENDAR
PRODID:-//ical.marudot.com//iCal Event Maker
VERSION:2.0
BEGIN:VEVENT
DTSTAMP:20260422T211009Z
UID:stostream-e5458
DTSTART:20260509T003000Z
DURATION:PT60M
SUMMARY:Spring Choir Concert: St. Olaf Choir and National Lutheran Choir
LOCATION:Live Stream from Boe Memorial Chapel
DESCRIPTION:https://www.stolaf.edu/multimedia/play/?e=5458\n\nThe St. Olaf Choir with special guests the National Lutheran Choir perform a Spring Concert in Boe Memorial Chapel.
URL:https://www.stolaf.edu/multimedia/play/?e=5458
END:VEVENT
END:VCALENDAR